BEGIN:VCALENDAR
VERSION:2.0
PRODID:-//Saltango - Tango Argentino &amp; Salsa Nagold e.V. - ECPv6.7.0//NONSGML v1.0//EN
CALSCALE:GREGORIAN
METHOD:PUBLISH
X-WR-CALNAME:Saltango - Tango Argentino &amp; Salsa Nagold e.V.
X-ORIGINAL-URL:https://saltango.de
X-WR-CALDESC:Veranstaltungen für Saltango - Tango Argentino &amp; Salsa Nagold e.V.
REFRESH-INTERVAL;VALUE=DURATION:PT1H
X-Robots-Tag:noindex
X-PUBLISHED-TTL:PT1H
BEGIN:VTIMEZONE
TZID:UTC
BEGIN:STANDARD
TZOFFSETFROM:+0000
TZOFFSETTO:+0000
TZNAME:UTC
DTSTART:20260101T000000
END:STANDARD
END:VTIMEZONE
BEGIN:VEVENT
DTSTART;TZID=UTC:20260227T190000
DTEND;TZID=UTC:20260227T220000
DTSTAMP:20260425T193906
CREATED:20260131T105551Z
LAST-MODIFIED:20260131T110155Z
UID:1588-1772218800-1772229600@saltango.de
SUMMARY:Jahreshauptversammlung 2026
DESCRIPTION:Unsere Jahreshauptversammlung findet am 27. 02. 2026 im Alten Schulhaus in Nagold-Pfrondorf &#8211; Ortsmitte 1 statt. Ausreichend Parkplätze gibt es an der Gemeindehalle &#8211; Riedwiesen 23. \nDie Einladungen mit der Tagesordnung wurden bereis per Email an alle Mitglieder versendet. \nWir freuen uns auf Eure Teilnahme. \nDer Vorstand
URL:https://saltango.de/event/jahreshauptversammlung-2025/
LOCATION:Altes Schulhaus Pfrondorf\, Ortsmitte 1\, Nagold-Pfrondorf\, 72202\, Germany
CATEGORIES:Vereinsveranstaltung
ATTACH;FMTTYPE=image/png:https://saltango.de/wp-content/uploads/2022/10/logo_verein.png
END:VEVENT
END:VCALENDAR